BEGIN:VCALENDAR
VERSION:2.0
PRODID:-//eventon.com NONSGML v1.0//EN
CALSCALE:GREGORIAN
METHOD:PUBLISH
BEGIN:VEVENT
UID:69e9ddcd28f39
DTSTAMP:20260423T085229Z
DTSTART:20260509T110000Z
DTEND:20260509T130000Z
LOCATION:Warstone Lane Cemetery Vyse Street Pitsford Street \, \,  Birmingham\,  B18
SUMMARY:V.E. Day\,  Air Raid Shelter Catacomb Chambers Tour in Key Hill Cemetery
DESCRIPTION:Explore the eerie catacomb chambers of Key Hill Cemetery on a t
 our that delves into the history of air raid shelters during V.E. Day. V.E.
  Day\,  Air Raid Shelter Catacomb Chambers Tour Date: Sat 9 May 2026 Time: 
 12.40pm The meeting point: is at the Friends Information gazebo inside the[
 ..]
URL:https://thehockleyflyer.info/events/v-e-day-air-raid-shelter-catacomb-chambers-tour-in-key-hill-cemetery
END:VEVENT
END:VCALENDAR