BEGIN:VCALENDAR
VERSION:2.0
PRODID:-//eventon.com NONSGML v1.0//EN
CALSCALE:GREGORIAN
METHOD:PUBLISH
BEGIN:VEVENT
UID:69e9dde6bdf7d
DTSTAMP:20260423T085254Z
DTSTART:20260426T110000Z
DTEND:20260426T143000Z
LOCATION:Pen Museum Argent Centre - 60 Frederick Street - Birmingham - B1 3HS
SUMMARY:Calligraphy Classes (Sheila Smith)
DESCRIPTION:Learning the art of beautiful handwriting can be incredibly rew
 arding\,  and calligraphy classes are a great way to start mastering this s
 kill. Calligraphy has become a popular hobby for many\,  allowing individua
 ls to express creativity through elegant lettering. For those keen to dive 
 deeper\,  calligraphy classes offer an excellent way[..]
URL:https://thehockleyflyer.info/events/calligraphy-classes-sheila-smith-6
END:VEVENT
END:VCALENDAR