BEGIN:VCALENDAR
VERSION:2.0
PRODID:-//eventon.com NONSGML v1.0//EN
CALSCALE:GREGORIAN
METHOD:PUBLISH
BEGIN:VEVENT
UID:69e602c4a3d0c
DTSTAMP:20260420T104108Z
DTSTART:20260510T133000Z
DTEND:20260510T153000Z
LOCATION:Jewellery Quarter
SUMMARY:Discovering Birmingham's Jewellery Quarter
DESCRIPTION:This tour gets under the skin of the city. We follow the â€˜sec
 ret canalâ€™ to the Jewellery Quarter and see how a Georgian country estate
  grew into one of the worldâ€™s most inventive industrial environments. Weâ
 €™ll explore everything from artisan jewellers to vast 19th-century factori
 es that supplied the globe. But[..]
URL:https://thehockleyflyer.info/events/discovering-birminghams-jewellery-quarter-6
END:VEVENT
END:VCALENDAR