BEGIN:VCALENDAR
VERSION:2.0
PRODID:-//eventon.com NONSGML v1.0//EN
CALSCALE:GREGORIAN
METHOD:PUBLISH
BEGIN:VEVENT
UID:69e602c01917d
DTSTAMP:20260420T104104Z
DTSTART:20260418T090000Z
DTEND:20260418T140000Z
LOCATION:The Golden Square
SUMMARY:JEWELLERY QUARTER ARTISAN MARKET
DESCRIPTION:Set in the heart of the JQ in The Golden Square\,  the Jeweller
 y Quarter Artisan Market is a vibrant showcase of creativity\,  craftsmansh
 ip\,  and community. As part of Birmingham Artisan Markets\,  this event br
 ings together a carefully curated selection of independent artisans\,  make
 rs\,  and food vendors\,  offering high-quality\,  handmade goods[..]
URL:https://thehockleyflyer.info/events/jewellery-quarter-artisan-market-2
END:VEVENT
END:VCALENDAR