BEGIN:VCALENDAR
VERSION:2.0
PRODID:-//eventon.com NONSGML v1.0//EN
CALSCALE:GREGORIAN
METHOD:PUBLISH
BEGIN:VEVENT
UID:69e9f620deb41
DTSTAMP:20260423T103616Z
DTSTART:20260509T094000Z
DTEND:20260509T110000Z
LOCATION:Warstone Lane Cemetery Vyse Street Pitsford Street \, \,  Birmingham\,  B18
SUMMARY:V.E. Day\,  Air Raid Shelter Catacomb Chambers Tour in Key Hill Cemetery
DESCRIPTION:Explore Key Hill Victorian Catacomb Chambers . The Meeting Poin
 t: Inside neigbouring Warstone Lane Cemetery Explore the eerie catacomb cha
 mbers of Key Hill Cemetery on a tour that delves into the history of air ra
 id shelters during V.E. Day. V.E. Day\,  Air Raid Shelter Catacomb Chambers
  Tour Date: Sat 9[..]
URL:https://thehockleyflyer.info/events/v-e-day-air-raid-shelter-catacomb-chambers-tour-in-key-hill-cemetery-2
END:VEVENT
END:VCALENDAR