BEGIN:VCALENDAR
VERSION:2.0
PRODID:-//eventon.com NONSGML v1.0//EN
CALSCALE:GREGORIAN
METHOD:PUBLISH
BEGIN:VEVENT
UID:69e9e0f82c067
DTSTAMP:20260423T090600Z
DTSTART:20260512T183000Z
DTEND:20260512T225900Z
LOCATION:Actress and Bishop (official) 36 Ludgate Hill\,  Birmingham\,  B3 1EH
SUMMARY:ACM SOUNDS
DESCRIPTION:ACM Sounds is a night devoted to students of the Academy of Con
 temporary Music to build and develop on their live shows. This free entry e
 vent gives the locals a chance to discover someone new and to support live 
 music. This monthly event explores all types of genres and styles[..]
URL:https://thehockleyflyer.info/events/acm-sounds
END:VEVENT
END:VCALENDAR