BEGIN:VCALENDAR
VERSION:2.0
PRODID:-//eventon.com NONSGML v1.0//EN
CALSCALE:GREGORIAN
METHOD:PUBLISH
BEGIN:VEVENT
UID:69ec957b79cc4
DTSTAMP:20260425T102043Z
DTSTART:20260528T160000Z
DTEND:20260528T180000Z
LOCATION:Museum of the Jewellery Quarter 70-80 Vyse Street\,  Hockley\,  Birmingham\,  B18 6HA.
SUMMARY:JQ Lates: Explore Smith & Pepper Museum of the Jewellery Quarter
DESCRIPTION:Explore the history of the Jewellery Quarter after hours! The M
 useum of the Jewellery Quarter is excited to be taking part in JQ Lates whe
 re venues around the quarter open their doors for the evening &#8211; for o
 ther participating venues\,  head to the JQ Common Room. Enjoy a laidback v
 isit[..]
URL:https://thehockleyflyer.info/events/jq-lates-explore-smith-pepper-museum-of-the-jewellery-quarter
END:VEVENT
END:VCALENDAR