BEGIN:VCALENDAR
VERSION:2.0
PRODID:-//eventon.com NONSGML v1.0//EN
CALSCALE:GREGORIAN
METHOD:PUBLISH
BEGIN:VEVENT
UID:69e9f4df5af03
DTSTAMP:20260423T103055Z
DTSTART:20260515T170000Z
DTEND:20260515T225900Z
LOCATION:The Jam House 3-5 Saint Paul's Square\,  Birmingham\,  B3 1QU
SUMMARY:The Black Jeans
DESCRIPTION:ALL SINGING ALL DANCING FRIDAYS is a night of fantastic food &
 amp; drinks deals and Tremendous Live Entertainment! The Black Jeans are a 
 high-energy four-piece band bringing the ultimate feel-good vibes with a se
 tlist packed full of iconic singalong anthems from the past few decades. Fr
 om the soulful sounds of Rag’n’Bone[..]
URL:https://thehockleyflyer.info/events/the-black-jeans
END:VEVENT
END:VCALENDAR