BEGIN:VCALENDAR
VERSION:2.0
PRODID:-//eventon.com NONSGML v1.0//EN
CALSCALE:GREGORIAN
METHOD:PUBLISH
BEGIN:VEVENT
UID:69ec95a108010
DTSTAMP:20260425T102121Z
DTSTART:20260521T170000Z
DTEND:20260521T225900Z
LOCATION:The Jam House 3-5 Saint Paul's Square\,  Birmingham\,  B3 1QU
SUMMARY:Kele Le Roc & Terri Walker
DESCRIPTION:Join Kele Le Roc and Terri Walker for an unforgettable even
 ing of music and conversation. Hosted by John Simmit\,  this special event
  offers a rare glimpse into their journeys through music\,  as they share p
 ersonal stories\,  career reflections\,  and insights you won’t hear anyw
 here else. The night includes: Q&amp;A – Your chance to engage directly 
 with[..]
URL:https://thehockleyflyer.info/events/kele-le-roc-terri-walker
END:VEVENT
END:VCALENDAR