BEGIN:VCALENDAR
VERSION:2.0
PRODID:-//eventon.com NONSGML v1.0//EN
CALSCALE:GREGORIAN
METHOD:PUBLISH
BEGIN:VEVENT
UID:69e8a2bd81241
DTSTAMP:20260422T102813Z
DTSTART:20260524T133000Z
DTEND:20260524T153000Z
LOCATION:Rock &amp; Roll BrewHouse 19 Hall Street\,  Birmingham\,  B18 6BS
SUMMARY:Precious Gems Film Club: Nomadland
DESCRIPTION:Precious Gems Film Club presents Nomadland(2020) Fern drifts th
 rough a van-based life after losing her home\,  not as an act of freedom bu
 t as a kind of steady survival. This film is about atmosphere; letting seas
 onal jobs\,  fleeting connections\,  and vast landscapes build a portrait o
 f people living on the[..]
URL:https://thehockleyflyer.info/events/precious-gems-film-club-nomadland
END:VEVENT
END:VCALENDAR